Package: wateRmelon Version: 2.17.0 Command: /home/biocbuild/bbs-3.23-bioc/R/bin/R CMD INSTALL wateRmelon StartedAt: 2025-11-07 16:01:06 -0500 (Fri, 07 Nov 2025) EndedAt: 2025-11-07 16:02:00 -0500 (Fri, 07 Nov 2025) EllapsedTime: 54.8 seconds RetCode: 0 Status: OK