Package: wateRmelon Version: 2.17.0 Command: /home/biocbuild/bbs-3.23-bioc/R/bin/R CMD build --keep-empty-dirs --no-resave-data wateRmelon StartedAt: 2025-11-07 20:41:20 -0500 (Fri, 07 Nov 2025) EndedAt: 2025-11-07 20:42:51 -0500 (Fri, 07 Nov 2025) EllapsedTime: 91.1 seconds RetCode: 0 Status: OK PackageFile: wateRmelon_2.17.0.tar.gz PackageFileSize: 3.329 MiB