Package: wateRmelon Version: 2.15.0 Command: rm -rf wateRmelon.buildbin-libdir && mkdir wateRmelon.buildbin-libdir && /Users/biocbuild/BBS/utils/build-universal.sh wateRmelon_2.15.0.tar.gz /Library/Frameworks/R.framework/Resources/bin/R wateRmelon.buildbin-libdir StartedAt: 2025-10-18 03:29:00 -0400 (Sat, 18 Oct 2025) EndedAt: 2025-10-18 03:30:15 -0400 (Sat, 18 Oct 2025) EllapsedTime: 74.6 seconds RetCode: 0 Status: OK PackageFile: wateRmelon_2.15.0.tgz PackageFileSize: 3.688 MiB