Package: wateRmelon Version: 2.15.0 Command: /Library/Frameworks/R.framework/Resources/bin/R CMD INSTALL wateRmelon StartedAt: 2025-10-03 15:32:22 -0400 (Fri, 03 Oct 2025) EndedAt: 2025-10-03 15:32:43 -0400 (Fri, 03 Oct 2025) EllapsedTime: 21.5 seconds RetCode: 0 Status: OK