Package: wateRmelon Version: 2.15.0 Command: /Library/Frameworks/R.framework/Resources/bin/R CMD build --keep-empty-dirs --no-resave-data wateRmelon StartedAt: 2025-10-03 18:03:13 -0400 (Fri, 03 Oct 2025) EndedAt: 2025-10-03 18:03:52 -0400 (Fri, 03 Oct 2025) EllapsedTime: 39.5 seconds RetCode: 0 Status: OK PackageFile: wateRmelon_2.15.0.tar.gz PackageFileSize: 3.278 MiB