Package: wateRmelon Version: 2.15.0 Command: rm -rf wateRmelon.buildbin-libdir && mkdir wateRmelon.buildbin-libdir && /Users/biocbuild/BBS/utils/build-universal.sh wateRmelon_2.15.0.tar.gz /Library/Frameworks/R.framework/Resources/bin/R wateRmelon.buildbin-libdir StartedAt: 2025-10-03 23:00:06 -0400 (Fri, 03 Oct 2025) EndedAt: 2025-10-03 23:00:31 -0400 (Fri, 03 Oct 2025) EllapsedTime: 24.9 seconds RetCode: 0 Status: OK PackageFile: wateRmelon_2.15.0.tgz PackageFileSize: 3.693 MiB