Package: wateRmelon Version: 2.17.0 Maintainer: Leo C Schalkwyk MaintainerEmail: lschal at essex.ac.uk git_url: https://git.bioconductor.org/packages/wateRmelon git_branch: devel git_last_commit: e1ace56 git_last_commit_date: 2025-10-29 10:13:04 -0400 (Wed, 29 Oct 2025)