Package: waddR Version: 1.25.0 Command: /home/biocbuild/bbs-3.23-bioc/R/bin/R CMD INSTALL waddR StartedAt: 2025-11-20 15:21:55 -0500 (Thu, 20 Nov 2025) EndedAt: 2025-11-20 15:22:40 -0500 (Thu, 20 Nov 2025) EllapsedTime: 44.5 seconds RetCode: 0 Status: OK