Package: waddR Version: 1.25.0 Command: /home/biocbuild/bbs-3.23-bioc/R/bin/R CMD build --keep-empty-dirs --no-resave-data waddR StartedAt: 2025-11-20 20:45:50 -0500 (Thu, 20 Nov 2025) EndedAt: 2025-11-20 20:47:31 -0500 (Thu, 20 Nov 2025) EllapsedTime: 101.1 seconds RetCode: 0 Status: OK PackageFile: waddR_1.25.0.tar.gz PackageFileSize: 151.9 KiB