Package: waddR Version: 1.23.0 Command: /Library/Frameworks/R.framework/Resources/bin/R CMD build --keep-empty-dirs --no-resave-data waddR StartedAt: 2025-10-24 19:12:58 -0400 (Fri, 24 Oct 2025) EndedAt: 2025-10-24 19:14:05 -0400 (Fri, 24 Oct 2025) EllapsedTime: 67.3 seconds RetCode: 1 Status: ERROR PackageFile: None PackageFileSize: NA