Package: waddR Version: 1.23.0 Command: /Library/Frameworks/R.framework/Resources/bin/R CMD INSTALL waddR StartedAt: 2025-10-13 15:14:54 -0400 (Mon, 13 Oct 2025) EndedAt: 2025-10-13 15:15:11 -0400 (Mon, 13 Oct 2025) EllapsedTime: 16.3 seconds RetCode: 0 Status: OK