Package: waddR Version: 1.23.0 Command: /Library/Frameworks/R.framework/Resources/bin/R CMD build --keep-empty-dirs --no-resave-data waddR StartedAt: 2025-10-12 18:00:57 -0400 (Sun, 12 Oct 2025) EndedAt: 2025-10-12 18:01:25 -0400 (Sun, 12 Oct 2025) EllapsedTime: 28.3 seconds RetCode: 1 Status: ERROR PackageFile: None PackageFileSize: NA