############################################################################## ############################################################################## ### ### Running command: ### ### /home/biocbuild/bbs-3.23-bioc/R/bin/R CMD INSTALL vulcan ### ############################################################################## ############################################################################## * installing to library ‘/home/biocbuild/bbs-3.23-bioc/R/site-library’ * installing *source* package ‘vulcan’ ... ** this is package ‘vulcan’ version ‘1.33.0’ ** using staged installation ** R ** inst ** byte-compile and prepare package for lazy loading Error: package or namespace load failed for ‘ChIPpeakAnno’: object ‘microRNAs’ is not exported by 'namespace:GenomicFeatures' Execution halted ERROR: lazy loading failed for package ‘vulcan’ * removing ‘/home/biocbuild/bbs-3.23-bioc/R/site-library/vulcan’ * restoring previous ‘/home/biocbuild/bbs-3.23-bioc/R/site-library/vulcan’