############################################################################## ############################################################################## ### ### Running command: ### ### /home/biocbuild/bbs-3.23-bioc/R/bin/R CMD build --keep-empty-dirs --no-resave-data vulcan ### ############################################################################## ############################################################################## * checking for file ‘vulcan/DESCRIPTION’ ... OK * preparing ‘vulcan’: * checking DESCRIPTION meta-information ... OK * installing the package (it is needed to build vignettes) ----------------------------------- * installing *source* package ‘vulcan’ ... ** this is package ‘vulcan’ version ‘1.33.0’ ** using staged installation ** R ** inst ** byte-compile and prepare package for lazy loading Error: package or namespace load failed for ‘ChIPpeakAnno’: object ‘microRNAs’ is not exported by 'namespace:GenomicFeatures' Execution halted ERROR: lazy loading failed for package ‘vulcan’ * removing ‘/tmp/RtmpR06GKL/Rinst1b5be354821fd5/vulcan’ ----------------------------------- ERROR: package installation failed