Package: vulcan Version: 1.31.0 Command: /Library/Frameworks/R.framework/Resources/bin/R CMD INSTALL vulcan StartedAt: 2025-10-10 15:55:57 -0400 (Fri, 10 Oct 2025) EndedAt: 2025-10-10 15:57:18 -0400 (Fri, 10 Oct 2025) EllapsedTime: 81.2 seconds RetCode: 0 Status: OK