Package: vulcan Version: 1.31.0 Command: /Library/Frameworks/R.framework/Resources/bin/R CMD build --keep-empty-dirs --no-resave-data vulcan StartedAt: 2025-10-10 19:41:21 -0400 (Fri, 10 Oct 2025) EndedAt: 2025-10-10 19:43:16 -0400 (Fri, 10 Oct 2025) EllapsedTime: 114.4 seconds RetCode: 0 Status: OK PackageFile: vulcan_1.31.0.tar.gz PackageFileSize: 390 KiB