Package: vulcan Version: 1.31.0 Command: rm -rf vulcan.buildbin-libdir && mkdir vulcan.buildbin-libdir && /Users/biocbuild/BBS/utils/build-universal.sh vulcan_1.31.0.tar.gz /Library/Frameworks/R.framework/Resources/bin/R vulcan.buildbin-libdir StartedAt: 2025-10-11 03:00:20 -0400 (Sat, 11 Oct 2025) EndedAt: 2025-10-11 03:01:33 -0400 (Sat, 11 Oct 2025) EllapsedTime: 73.0 seconds RetCode: 0 Status: OK PackageFile: vulcan_1.31.0.tgz PackageFileSize: 462.8 KiB