Package: vulcan Version: 1.31.0 Command: /Library/Frameworks/R.framework/Resources/bin/R CMD INSTALL vulcan StartedAt: 2025-09-29 15:31:29 -0400 (Mon, 29 Sep 2025) EndedAt: 2025-09-29 15:31:53 -0400 (Mon, 29 Sep 2025) EllapsedTime: 24.6 seconds RetCode: 0 Status: OK