Package: vulcan Version: 1.31.0 Command: /Library/Frameworks/R.framework/Resources/bin/R CMD build --keep-empty-dirs --no-resave-data vulcan StartedAt: 2025-09-30 18:07:51 -0400 (Tue, 30 Sep 2025) EndedAt: 2025-09-30 18:08:29 -0400 (Tue, 30 Sep 2025) EllapsedTime: 37.4 seconds RetCode: 0 Status: OK PackageFile: vulcan_1.31.0.tar.gz PackageFileSize: 390.6 KiB