Package: vtpnet Version: 0.49.0 Command: /Library/Frameworks/R.framework/Resources/bin/R CMD INSTALL vtpnet StartedAt: 2025-10-21 15:40:55 -0400 (Tue, 21 Oct 2025) EndedAt: 2025-10-21 15:42:02 -0400 (Tue, 21 Oct 2025) EllapsedTime: 66.7 seconds RetCode: 0 Status: OK