Package: vtpnet Version: 0.49.0 Command: /Library/Frameworks/R.framework/Resources/bin/R CMD build --keep-empty-dirs --no-resave-data vtpnet StartedAt: 2025-10-21 19:58:53 -0400 (Tue, 21 Oct 2025) EndedAt: 2025-10-21 20:00:29 -0400 (Tue, 21 Oct 2025) EllapsedTime: 96.0 seconds RetCode: 0 Status: OK PackageFile: vtpnet_0.49.0.tar.gz PackageFileSize: 20.22 MiB