Package: vtpnet Version: 0.49.0 Command: rm -rf vtpnet.buildbin-libdir && mkdir vtpnet.buildbin-libdir && /Users/biocbuild/BBS/utils/build-universal.sh vtpnet_0.49.0.tar.gz /Library/Frameworks/R.framework/Resources/bin/R vtpnet.buildbin-libdir StartedAt: 2025-10-22 02:55:02 -0400 (Wed, 22 Oct 2025) EndedAt: 2025-10-22 02:55:59 -0400 (Wed, 22 Oct 2025) EllapsedTime: 56.8 seconds RetCode: 0 Status: OK PackageFile: vtpnet_0.49.0.tgz PackageFileSize: 20.24 MiB