Package: vtpnet Version: 0.49.0 Command: /Library/Frameworks/R.framework/Resources/bin/R CMD INSTALL vtpnet StartedAt: 2025-10-10 15:23:18 -0400 (Fri, 10 Oct 2025) EndedAt: 2025-10-10 15:23:38 -0400 (Fri, 10 Oct 2025) EllapsedTime: 20.6 seconds RetCode: 0 Status: OK