Package: vtpnet Version: 0.49.0 Command: /Library/Frameworks/R.framework/Resources/bin/R CMD build --keep-empty-dirs --no-resave-data vtpnet StartedAt: 2025-10-10 18:03:11 -0400 (Fri, 10 Oct 2025) EndedAt: 2025-10-10 18:03:51 -0400 (Fri, 10 Oct 2025) EllapsedTime: 40.5 seconds RetCode: 0 Status: OK PackageFile: vtpnet_0.49.0.tar.gz PackageFileSize: 20.22 MiB