Package: vtpnet Version: 0.49.0 Command: rm -rf vtpnet.buildbin-libdir && mkdir vtpnet.buildbin-libdir && /Users/biocbuild/BBS/utils/build-universal.sh vtpnet_0.49.0.tar.gz /Library/Frameworks/R.framework/Resources/bin/R vtpnet.buildbin-libdir StartedAt: 2025-10-10 23:01:49 -0400 (Fri, 10 Oct 2025) EndedAt: 2025-10-10 23:02:07 -0400 (Fri, 10 Oct 2025) EllapsedTime: 18.4 seconds RetCode: 0 Status: OK PackageFile: vtpnet_0.49.0.tgz PackageFileSize: 20.24 MiB