Package: vsclust Version: 1.11.2 Command: /home/biocbuild/bbs-3.22-bioc/R/bin/R CMD check --install=check:vsclust.install-out.txt --library=/home/biocbuild/bbs-3.22-bioc/R/site-library --timings vsclust_1.11.2.tar.gz StartedAt: 2025-10-22 06:13:45 -0400 (Wed, 22 Oct 2025) EndedAt: 2025-10-22 06:22:27 -0400 (Wed, 22 Oct 2025) EllapsedTime: 522.4 seconds RetCode: 0 Status: OK CheckDir: vsclust.Rcheck Warnings: 0