Package: vsclust Version: 1.13.0 Command: /home/biocbuild/bbs-3.23-bioc/R/bin/R CMD INSTALL vsclust StartedAt: 2025-11-07 15:47:25 -0500 (Fri, 07 Nov 2025) EndedAt: 2025-11-07 15:48:08 -0500 (Fri, 07 Nov 2025) EllapsedTime: 43.4 seconds RetCode: 0 Status: OK