Package: vsclust Version: 1.13.0 Command: /home/biocbuild/bbs-3.23-bioc/R/bin/R CMD build --keep-empty-dirs --no-resave-data vsclust StartedAt: 2025-11-07 20:40:17 -0500 (Fri, 07 Nov 2025) EndedAt: 2025-11-07 20:43:03 -0500 (Fri, 07 Nov 2025) EllapsedTime: 165.2 seconds RetCode: 0 Status: OK PackageFile: vsclust_1.13.0.tar.gz PackageFileSize: 3.657 MiB