Package: vsclust Version: 1.11.2 Command: /Library/Frameworks/R.framework/Resources/bin/R CMD INSTALL vsclust StartedAt: 2025-09-30 15:41:11 -0400 (Tue, 30 Sep 2025) EndedAt: 2025-09-30 15:42:06 -0400 (Tue, 30 Sep 2025) EllapsedTime: 55.8 seconds RetCode: 0 Status: OK