Package: vsclust Version: 1.11.2 Command: /Library/Frameworks/R.framework/Resources/bin/R CMD build --keep-empty-dirs --no-resave-data vsclust StartedAt: 2025-10-01 19:17:22 -0400 (Wed, 01 Oct 2025) EndedAt: 2025-10-01 19:20:32 -0400 (Wed, 01 Oct 2025) EllapsedTime: 189.6 seconds RetCode: 0 Status: OK PackageFile: vsclust_1.11.2.tar.gz PackageFileSize: 3.833 MiB