Package: vsclust Version: 1.11.2 Command: rm -rf vsclust.buildbin-libdir && mkdir vsclust.buildbin-libdir && /Users/biocbuild/BBS/utils/build-universal.sh vsclust_1.11.2.tar.gz /Library/Frameworks/R.framework/Resources/bin/R vsclust.buildbin-libdir StartedAt: 2025-10-03 02:28:15 -0400 (Fri, 03 Oct 2025) EndedAt: 2025-10-03 02:29:15 -0400 (Fri, 03 Oct 2025) EllapsedTime: 60.3 seconds RetCode: 0 Status: OK PackageFile: vsclust_1.11.2.tgz PackageFileSize: 3.967 MiB