Package: vmrseq Version: 1.3.0 Command: /home/biocbuild/bbs-3.23-bioc/R/bin/R CMD INSTALL vmrseq StartedAt: 2025-11-18 16:33:58 -0500 (Tue, 18 Nov 2025) EndedAt: 2025-11-18 16:34:41 -0500 (Tue, 18 Nov 2025) EllapsedTime: 43.2 seconds RetCode: 0 Status: OK