Package: vmrseq Version: 1.3.0 Command: /home/biocbuild/bbs-3.23-bioc/R/bin/R CMD build --keep-empty-dirs --no-resave-data vmrseq StartedAt: 2025-11-18 21:33:34 -0500 (Tue, 18 Nov 2025) EndedAt: 2025-11-18 21:34:56 -0500 (Tue, 18 Nov 2025) EllapsedTime: 82.0 seconds RetCode: 0 Status: OK PackageFile: vmrseq_1.3.0.tar.gz PackageFileSize: 2.982 MiB