Package: vmrseq Version: 1.1.2 Command: /Library/Frameworks/R.framework/Resources/bin/R CMD INSTALL vmrseq StartedAt: 2025-10-27 15:34:35 -0400 (Mon, 27 Oct 2025) EndedAt: 2025-10-27 15:35:35 -0400 (Mon, 27 Oct 2025) EllapsedTime: 59.9 seconds RetCode: 0 Status: OK