Package: vmrseq Version: 1.1.2 Command: /Library/Frameworks/R.framework/Resources/bin/R CMD build --keep-empty-dirs --no-resave-data vmrseq StartedAt: 2025-10-27 19:05:49 -0400 (Mon, 27 Oct 2025) EndedAt: 2025-10-27 19:07:28 -0400 (Mon, 27 Oct 2025) EllapsedTime: 99.2 seconds RetCode: 0 Status: OK PackageFile: vmrseq_1.1.2.tar.gz PackageFileSize: 2.982 MiB