Package: vmrseq Version: 1.1.2 Command: /Library/Frameworks/R.framework/Resources/bin/R CMD INSTALL vmrseq StartedAt: 2025-10-12 15:21:27 -0400 (Sun, 12 Oct 2025) EndedAt: 2025-10-12 15:21:44 -0400 (Sun, 12 Oct 2025) EllapsedTime: 17.5 seconds RetCode: 0 Status: OK