Package: vmrseq Version: 1.1.2 Command: rm -rf vmrseq.buildbin-libdir && mkdir vmrseq.buildbin-libdir && /Users/biocbuild/BBS/utils/build-universal.sh vmrseq_1.1.2.tar.gz /Library/Frameworks/R.framework/Resources/bin/R vmrseq.buildbin-libdir StartedAt: 2025-10-13 23:02:56 -0400 (Mon, 13 Oct 2025) EndedAt: 2025-10-13 23:03:16 -0400 (Mon, 13 Oct 2025) EllapsedTime: 19.4 seconds RetCode: 0 Status: OK PackageFile: vmrseq_1.1.2.tgz PackageFileSize: 2.878 MiB