Package: vissE Version: 1.19.0 Command: /home/biocbuild/bbs-3.23-bioc/R/bin/R CMD build --keep-empty-dirs --no-resave-data vissE StartedAt: 2025-11-20 20:44:02 -0500 (Thu, 20 Nov 2025) EndedAt: 2025-11-20 20:49:47 -0500 (Thu, 20 Nov 2025) EllapsedTime: 345.7 seconds RetCode: 0 Status: OK PackageFile: vissE_1.19.0.tar.gz PackageFileSize: 1.562 MiB