Package: vissE Version: 1.17.0 Command: /Library/Frameworks/R.framework/Resources/bin/R CMD INSTALL vissE StartedAt: 2025-10-22 15:33:53 -0400 (Wed, 22 Oct 2025) EndedAt: 2025-10-22 15:34:01 -0400 (Wed, 22 Oct 2025) EllapsedTime: 8.1 seconds RetCode: 0 Status: OK