Package: vissE Version: 1.17.0 Command: /Library/Frameworks/R.framework/Resources/bin/R CMD build --keep-empty-dirs --no-resave-data vissE StartedAt: 2025-10-24 19:11:54 -0400 (Fri, 24 Oct 2025) EndedAt: 2025-10-24 19:17:54 -0400 (Fri, 24 Oct 2025) EllapsedTime: 359.5 seconds RetCode: 0 Status: OK PackageFile: vissE_1.17.0.tar.gz PackageFileSize: 1.651 MiB