Package: vissE Version: 1.17.0 Command: rm -rf vissE.buildbin-libdir && mkdir vissE.buildbin-libdir && /Users/biocbuild/BBS/utils/build-universal.sh vissE_1.17.0.tar.gz /Library/Frameworks/R.framework/Resources/bin/R vissE.buildbin-libdir StartedAt: 2025-10-24 02:04:15 -0400 (Fri, 24 Oct 2025) EndedAt: 2025-10-24 02:04:26 -0400 (Fri, 24 Oct 2025) EllapsedTime: 11.5 seconds RetCode: 0 Status: OK PackageFile: vissE_1.17.0.tgz PackageFileSize: 1.789 MiB