Package: vissE Version: 1.17.0 Command: /Library/Frameworks/R.framework/Resources/bin/R CMD INSTALL vissE StartedAt: 2025-10-17 15:19:49 -0400 (Fri, 17 Oct 2025) EndedAt: 2025-10-17 15:19:53 -0400 (Fri, 17 Oct 2025) EllapsedTime: 4.1 seconds RetCode: 0 Status: OK