Package: vissE Version: 1.17.0 Command: /Library/Frameworks/R.framework/Resources/bin/R CMD build --keep-empty-dirs --no-resave-data vissE StartedAt: 2025-10-15 18:06:48 -0400 (Wed, 15 Oct 2025) EndedAt: 2025-10-15 18:08:55 -0400 (Wed, 15 Oct 2025) EllapsedTime: 127.4 seconds RetCode: 0 Status: OK PackageFile: vissE_1.17.0.tar.gz PackageFileSize: 1.653 MiB