Package: vissE Version: 1.17.0 Command: rm -rf vissE.buildbin-libdir && mkdir vissE.buildbin-libdir && /Users/biocbuild/BBS/utils/build-universal.sh vissE_1.17.0.tar.gz /Library/Frameworks/R.framework/Resources/bin/R vissE.buildbin-libdir StartedAt: 2025-10-15 23:06:36 -0400 (Wed, 15 Oct 2025) EndedAt: 2025-10-15 23:06:39 -0400 (Wed, 15 Oct 2025) EllapsedTime: 3.1 seconds RetCode: 0 Status: OK PackageFile: vissE_1.17.0.tgz PackageFileSize: 1.791 MiB