Package: visiumStitched Version: 1.3.0 Command: /home/biocbuild/bbs-3.23-bioc/R/bin/R CMD INSTALL visiumStitched StartedAt: 2025-11-21 15:55:55 -0500 (Fri, 21 Nov 2025) EndedAt: 2025-11-21 15:56:46 -0500 (Fri, 21 Nov 2025) EllapsedTime: 50.5 seconds RetCode: 0 Status: OK