Package: visiumStitched Version: 1.3.0 Command: /home/biocbuild/bbs-3.23-bioc/R/bin/R CMD build --keep-empty-dirs --no-resave-data visiumStitched StartedAt: 2025-11-21 20:43:21 -0500 (Fri, 21 Nov 2025) EndedAt: 2025-11-21 20:48:12 -0500 (Fri, 21 Nov 2025) EllapsedTime: 291.3 seconds RetCode: 0 Status: OK PackageFile: visiumStitched_1.3.0.tar.gz PackageFileSize: 3.209 MiB