Package: visiumStitched Version: 1.3.0 Command: /Library/Frameworks/R.framework/Resources/bin/R CMD INSTALL visiumStitched StartedAt: 2025-11-27 15:52:49 -0500 (Thu, 27 Nov 2025) EndedAt: 2025-11-27 15:54:00 -0500 (Thu, 27 Nov 2025) EllapsedTime: 71.2 seconds RetCode: 0 Status: OK