Package: viper Version: 1.45.0 Command: /home/biocbuild/bbs-3.23-bioc/R/bin/R CMD INSTALL viper StartedAt: 2025-10-31 15:21:13 -0400 (Fri, 31 Oct 2025) EndedAt: 2025-10-31 15:21:26 -0400 (Fri, 31 Oct 2025) EllapsedTime: 13.7 seconds RetCode: 0 Status: OK