Package: viper Version: 1.45.0 Command: /home/biocbuild/bbs-3.23-bioc/R/bin/R CMD build --keep-empty-dirs --no-resave-data viper StartedAt: 2025-10-31 20:48:29 -0400 (Fri, 31 Oct 2025) EndedAt: 2025-10-31 20:51:54 -0400 (Fri, 31 Oct 2025) EllapsedTime: 205.2 seconds RetCode: 0 Status: OK PackageFile: viper_1.45.0.tar.gz PackageFileSize: 503.5 KiB