Package: viper Version: 1.45.0 Command: /Library/Frameworks/R.framework/Resources/bin/R CMD INSTALL viper StartedAt: 2025-11-21 15:19:42 -0500 (Fri, 21 Nov 2025) EndedAt: 2025-11-21 15:20:02 -0500 (Fri, 21 Nov 2025) EllapsedTime: 20.3 seconds RetCode: 0 Status: OK